Workbook

Sheet 中心为单位
A1: 2025-2026学年实验室信息统计以中心为单位汇总
A2: 学院 | B2: 序号 | C2: 中心名称 | D2: 中心编号 | E2: 使用面积
A3: 材料与环境工程学院 | B3: 1 | C3: 低维材料实验室 | D3: =VLOOKUP(C3,[1]中心编号!A:B,2,0) -> 195600 | E3: 45
B4: 2 | C4: 储能材料实验室 | D4: =VLOOKUP(C4,[1]中心编号!A:B,2,0) -> 196402 | E4: 90
B5: 3 | C5: 光电材料与器件研究中心 | D5: =VLOOKUP(C5,[1]中心编号!A:B,2,0) -> 380400 | E5: 328
B6: 4 | C6: 凝聚态物理实验室 | D6: =VLOOKUP(C6,[1]中心编号!A:B,2,0) -> 071100 | E6: 156
B7: 5 | C7: 分析测试中心 | D7: =VLOOKUP(C7,[1]中心编号!A:B,2,0) -> 4700046 | E7: 404
B8: 6 | C8: 工程应用研发中心 | D8: =VLOOKUP(C8,[1]中心编号!A:B,2,0) -> 4700045 | E8: 1600
B9: 7 | C9: 新能源材料研究中心 | D9: =VLOOKUP(C9,[1]中心编号!A:B,2,0) -> 195300 | E9: 87
B10: 8 | C10: 智能环保实验室 | D10: =VLOOKUP(C10,[1]中心编号!A:B,2,0) -> 196403 | E10: 90
B11: 9 | C11: 材料制备实验室 | D11: =VLOOKUP(C11,[1]中心编号!A:B,2,0) -> 196401 | E11: 90
B12: 10 | C12: 材料物理实验室 | D12: =VLOOKUP(C12,[1]中心编号!A:B,2,0) -> 196404 | E12: 22
B13: 11 | C13: 材环学院实验中心 | D13: =VLOOKUP(C13,[1]中心编号!A:B,2,0) -> 380100 | E13: 361
B14: 12 | C14: 浙江省新型传感材料重点实验室 | D14: =VLOOKUP(C14,[1]中心编号!A:B,2,0) -> 390001 | E14: 100
B15: 13 | C15: 浙江省磁性材料研究院 | D15: =VLOOKUP(C15,[1]中心编号!A:B,2,0) -> 38600 | E15: 1291
B16: 14 | C16: 环境科学与工程实验中心 | D16: =VLOOKUP(C16,[1]中心编号!A:B,2,0) -> 195100 | E16: 1262
B17: 15 | C17: 3D打印教学示范中心 | D17: XZ01 | E17: 52.3
B18: 16 | C18: 物理测量实验室 | D18: XZ02 | E18: 56
B19: 17 | C19: 高频磁材料实验室 | D19: XZ03 | E19: 55
A20: 电子信息学院（集成电路科学与工程学院） | B20: 1 | C20: 光信息技术实验室 | D20: =VLOOKUP(C20,[1]中心编号!A:B,2,0) -> 042000 | E20: 165
B21: 1 | C21: 制冷技术实验室 | D21: =VLOOKUP(C21,[1]中心编号!A:B,2,0) -> 041000 | E21: 101
B22: 2 | C22: 射频电路与系统教育部重点实验室 | D22: =VLOOKUP(C22,[1]中心编号!A:B,2,0) -> 400300 | E22: 700
B23: 3 | C23: 微智能传感与微系统教育部工程中心 | D23: =VLOOKUP(C23,[1]中心编号!A:B,2,0) -> 044004 | E23: 452
B24: 4 | C24: 微电子系统集成实验室 | D24: =VLOOKUP(C24,[1]中心编号!A:B,2,0) -> 045001 | E24: 150
B25: 5 | C25: 无线电协会、无线电实习基地 | D25: =VLOOKUP(C25,[1]中心编号!A:B,2,0) -> 042500 | E25: 179
B26: 6 | C26: 水下声学实验室 | D26: XZ04 | E26: 43
B27: 7 | C27: 电子产品工艺与测试实验室 | D27: XZ05 | E27: 45
B28: 8 | C28: 电子信息材料与器件重点实验室 | D28: =VLOOKUP(C28,[1]中心编号!A:B,2,0) -> 041600 | E28: 473
B29: 9 | C29: 电子系统集成实验室 | D29: =VLOOKUP(C29,[1]中心编号!A:B,2,0) -> 042200 | E29: 350
B30: 10 | C30: 电子能量与转换团队测试实验室 | D30: =VLOOKUP(C30,[1]中心编号!A:B,2,0) -> 049911 | E30: 16
B31: 11 | C31: 电子能量转换应用器件制备实验室 | D31: =VLOOKUP(C31,[1]中心编号!A:B,2,0) -> 049908 | E31: 60
B32: 12 | C32: 电子能量转换应用器件测试实验室 | D32: =VLOOKUP(C32,[1]中心编号!A:B,2,0) -> 049910 | E32: 18
B33: 13 | C33: 电工电子实验中心 | D33: =VLOOKUP(C33,[1]中心编号!A:B,2,0) -> 045000 | E33: 2270
B34: 14 | C34: 电池管理系统实验室 | D34: XZ06 | E34: 40
B35: 15 | C35: 电磁兼容与抗电磁干扰实验室 | D35: =VLOOKUP(C35,[1]中心编号!A:B,2,0) -> 041100 | E35: 144
B36: 16 | C36: 电类综合远程实验教学中心 | D36: =VLOOKUP(C36,[1]中心编号!A:B,2,0) -> 4700039 | E36: 294
B37: 17 | C37: 碳中和新能源研究院 | D37: =VLOOKUP(C37,[1]中心编号!A:B,2,0) -> 4700049 | E37: 190
B38: 18 | C38: 磁电子中心 | D38: =VLOOKUP(C38,[1]中心编号!A:B,2,0) -> 49909 | E38: 47
B39: 19 | C39: 磁电子材料与技术 | D39: =VLOOKUP(C39,[1]中心编号!A:B,2,0) -> 045600 | E39: 70
B40: 20 | C40: 磁电子测试中心 | D40: XZ07 | E40: 100
...

Sheet Sheet1
A2: 中心编号
A3: 195600
A4: 196402
A5: 380400
A6: 071100
A7: 4700046
A8: 4700045
A9: 195300
A10: 196403
A11: 196401
A12: 196404
A13: 380100
A14: 390001
A15: 38600
A16: 195100
A17: XZ01
A18: XZ02
A19: XZ03
A20: 042000
A21: 041000
A22: 400300
A23: 044004
A24: 045001
A25: 042500
A26: XZ01
... A35: 041100
A36: 4700039
A37: 4700049
A38: 49909
A39: 045600
A40: XZ04
A41: XZ05
A42: XZ06
A43: XZ07
A44: XZ08
A45: 115000
A46: 039902
A47: XZ08
A48: XZ09
A49: 014700
...
