Workbook

Sheet 中心为单位
A1: 2025-2026学年实验室信息统计以中心为单位汇总
A2: 学院 | B2: 序号 | C2: 中心名称 | D2: 中心编号 | E2: 使用面积
A3: 材料与环境工程学院 | B3: 1 | C3: 低维材料实验室 | D3: =VLOOKUP(C3,[1]中心编号!A:B,2,0) -> 195600 | E3: 45
B4: 2 | C4: 储能材料实验室 | D4: =VLOOKUP(C4,[1]中心编号!A:B,2,0) -> 196402 | E4: 90
B5: 3 | C5: 光电材料与器件研究中心 | D5: =VLOOKUP(C5,[1]中心编号!A:B,2,0) -> 380400 | E5: 328
B6: 4 | C6: 凝聚态物理实验室 | D6: =VLOOKUP(C6,[1]中心编号!A:B,2,0) -> 071100 | E6: 156
B7: 5 | C7: 分析测试中心 | D7: =VLOOKUP(C7,[1]中心编号!A:B,2,0) -> 4700046 | E7: 404
B8: 6 | C8: 工程应用研发中心 | D8: =VLOOKUP(C8,[1]中心编号!A:B,2,0) -> 4700045 | E8: 1600
B9: 7 | C9: 新能源材料研究中心 | D9: =VLOOKUP(C9,[1]中心编号!A:B,2,0) -> 195300 | E9: 87
B10: 8 | C10: 智能环保实验室 | D10: =VLOOKUP(C10,[1]中心编号!A:B,2,0) -> 196403 | E10: 90
B11: 9 | C11: 材料制备实验室 | D11: =VLOOKUP(C11,[1]中心编号!A:B,2,0) -> 196401 | E11: 90
B12: 10 | C12: 材料物理实验室 | D12: =VLOOKUP(C12,[1]中心编号!A:B,2,0) -> 196404 | E12: 22
B13: 11 | C13: 材环学院实验中心 | D13: =VLOOKUP(C13,[1]中心编号!A:B,2,0) -> 380100 | E13: 361
B14: 12 | C14: 浙江省新型传感材料重点实验室 | D14: =VLOOKUP(C14,[1]中心编号!A:B,2,0) -> 390001 | E14: 100
B15: 13 | C15: 浙江省磁性材料研究院 | D15: =VLOOKUP(C15,[1]中心编号!A:B,2,0) -> 38600 | E15: 1291
B16: 14 | C16: 环境科学与工程实验中心 | D16: =VLOOKUP(C16,[1]中心编号!A:B,2,0) -> 195100 | E16: 1262
B17: 15 | C17: 3D打印教学示范中心 | D17: XZ01 | E17: 52.3
B18: 16 | C18: 物理测量实验室 | D18: XZ02 | E18: 56
B19: 17 | C19: 高频磁材料实验室 | D19: XZ03 | E19: 55
A20: 电子信息学院（集成电路科学与工程学院） | B20: 1 | C20: 光信息技术实验室 | D20: =VLOOKUP(C20,[1]中心编号!A:B,2,0) -> 042000 | E20: 165
B21: 1 | C21: 制冷技术实验室 | D21: =VLOOKUP(C21,[1]中心编号!A:B,2,0) -> 041000 | E21: 101
B22: 2 | C22: 射频电路与系统教育部重点实验室 | D22: =VLOOKUP(C22,[1]中心编号!A:B,2,0) -> 400300 | E22: 700
B23: 3 | C23: 微智能传感与微系统教育部工程中心 | D23: =VLOOKUP(C23,[1]中心编号!A:B,2,0) -> 044004 | E23: 452
B24: 4 | C24: 微电子系统集成实验室 | D24: =VLOOKUP(C24,[1]中心编号!A:B,2,0) -> 045001 | E24: 150
B25: 5 | C25: 无线电协会、无线电实习基地 | D25: =VLOOKUP(C25,[1]中心编号!A:B,2,0) -> 042500 | E25: 179
B26: 6 | C26: 水下声学实验室 | D26: XZ04 | E26: 43
B27: 7 | C27: 电子产品工艺与测试实验室 | D27: XZ05 | E27: 45
B28: 8 | C28: 电子信息材料与器件重点实验室 | D28: =VLOOKUP(C28,[1]中心编号!A:B,2,0) -> 041600 | E28: 473
B29: 9 | C29: 电子系统集成实验室 | D29: =VLOOKUP(C29,[1]中心编号!A:B,2,0) -> 042200 | E29: 350
B30: 10 | C30: 电子能量与转换团队测试实验室 | D30: =VLOOKUP(C30,[1]中心编号!A:B,2,0) -> 049911 | E30: 16
B31: 11 | C31: 电子能量转换应用器件制备实验室 | D31: =VLOOKUP(C31,[1]中心编号!A:B,2,0) -> 049908 | E31: 60
B32: 12 | C32: 电子能量转换应用器件测试实验室 | D32: =VLOOKUP(C32,[1]中心编号!A:B,2,0) -> 049910 | E32: 18
B33: 13 | C33: 电工电子实验中心 | D33: =VLOOKUP(C33,[1]中心编号!A:B,2,0) -> 045000 | E33: 2270
B34: 14 | C34: 电池管理系统实验室 | D34: XZ06 | E34: 40
B35: 15 | C35: 电磁兼容与抗电磁干扰实验室 | D35: =VLOOKUP(C35,[1]中心编号!A:B,2,0) -> 041100 | E35: 144
B36: 16 | C36: 电类综合远程实验教学中心 | D36: =VLOOKUP(C36,[1]中心编号!A:B,2,0) -> 4700039 | E36: 294
B37: 17 | C37: 碳中和新能源研究院 | D37: =VLOOKUP(C37,[1]中心编号!A:B,2,0) -> 4700049 | E37: 190
B38: 18 | C38: 磁电子中心 | D38: =VLOOKUP(C38,[1]中心编号!A:B,2,0) -> 49909 | E38: 47
B39: 19 | C39: 磁电子材料与技术 | D39: =VLOOKUP(C39,[1]中心编号!A:B,2,0) -> 045600 | E39: 70
B40: 20 | C40: 磁电子测试中心 | D40: XZ07 | E40: 100
B41: 21 | C41: 纳米光学材料与器件实验室 | D41: XZ08 | E41: 110
B42: 22 | C42: 量子探测实验室 | D42: XZ09 | E42: 139
B43: 23 | C43: 集成薄膜实验室 | D43: XZ10 | E43: 51
B44: 24 | C44: 微系统集成实验室 | D44: XZ11 | E44: 40
A45: 法学院 | B45: 1 | C45: 法学实验中心 | D45: =VLOOKUP(C45,[1]中心编号!A:B,2,0) -> 115000 | E45: 127
A46: 管理学院 | B46: 1 | C46: 企业信息化运行实验中心（省级） | D46: =VLOOKUP(C46,[1]中心编号!A:B,2,0) -> 039902 | E46: 826
A47: 会计学院 | B47: 1 | C47: 会计工程实验教学中心 | D47: XZ12 | E47: 255
A48: 机械工程学院 | B48: 1 | C48: 光学实验室 | D48: XZ13 | E48: 35
B49: 1 | C49: 垂直循环水槽实验室 | D49: =VLOOKUP(C49,[1]中心编号!A:B,2,0) -> 014700 | E49: 208
B50: 2 | C50: 天文与深空探测数字化技术实验室 | D50: =VLOOKUP(C50,[1]中心编号!A:B,2,0) -> 018200 | E50: 65
B51: 3 | C51: 智能制造技术国家级实验教学示范中心 | D51: =VLOOKUP(C51,[1]中心编号!A:B,2,0) -> 015000 | E51: 5397
B52: 4 | C52: 机电集成技术实验室 | D52: =VLOOKUP(C52,[1]中心编号!A:B,2,0) -> 013000 | E52: 65
B53: 5 | C53: 水下装备实验室 | D53: XZ14 | E53: 35
B54: 6 | C54: 水声换能器实验室 | D54: XZ15 | E54: 150
B55: 7 | C55: 流体动力基础件及装备实验室 | D55: XZ16 | E55: 43
B56: 8 | C56: 海洋电子实验室 | D56: XZ17 | E56: 89
B57: 9 | C57: 深海原位实验技术实验室 | D57: XZ18 | E57: 44
B58: 10 | C58: 深海环境观测技术实验室 | D58: XZ19 | E58: 44
B59: 12 | C59: 生物制造与智能制造装备实验室 | D59: =VLOOKUP(C59,[1]中心编号!A:B,2,0) -> 018300 | E59: 80
B60: 13 | C60: 超声精密加工实验室 | D60: =VLOOKUP(C60,[1]中心编号!A:B,2,0) -> 018100 | E60: 80
B61: 14 | C61: 超精密加工实验室 | D61: =VLOOKUP(C61,[1]中心编号!A:B,2,0) -> 018000 | E61: 193
B62: 15 | C62: 重中之重海洋机电装备技术实验室 | D62: =VLOOKUP(C62,[1]中心编号!A:B,2,0) -> 016000 | E62: 106
B63: 16 | C63: 锂电子电池实验室 | D63: XZ20 | E63: 48
B64: 17 | C64: 新能源实验室 | D64: XZ21 | E64: 48
A65: 计算机学院（软件学院） | B65: 1 | C65: 可穿戴计算实验室 | D65: =VLOOKUP(C65,[1]中心编号!A:B,2,0) -> 055500 | E65: 56
B66: 1 | C66: 大学生创新基地 | D66: =VLOOKUP(C66,[1]中心编号!A:B,2,0) -> 050100 | E66: 91
B67: 2 | C67: 大数据实验室 | D67: =VLOOKUP(C67,[1]中心编号!A:B,2,0) -> 4700043 | E67: 243
B68: 3 | C68: 工业互联网研究中心 | D68: =VLOOKUP(C68,[1]中心编号!A:B,2,0) -> 059905 | E68: 198
B69: 4 | C69: 智能与控制部级重点实验室 | D69: =VLOOKUP(C69,[1]中心编号!A:B,2,0) -> 055400 | E69: 1006
B70: 5 | C70: 杭电TI联合实验室 | D70: =VLOOKUP(C70,[1]中心编号!A:B,2,0) -> 059918 | E70: 140
B71: 6 | C71: 省嵌入式系统重点实验室 | D71: =VLOOKUP(C71,[1]中心编号!A:B,2,0) -> 050800 | E71: 200
B72: 7 | C72: 系统仿真实验室 | D72: =VLOOKUP(C72,[1]中心编号!A:B,2,0) -> 4700062 | E72: 84
B73: 8 | C73: 脑机信息混和智能实验室 | D73: =VLOOKUP(C73,[1]中心编号!A:B,2,0) -> 059908 | E73: 56
B74: 9 | C74: 脑机协同智能技术国际联 合研究中心 | D74: =VLOOKUP(C74,[1]中心编号!A:B,2,0) -> 4700061 | E74: 252
B75: 10 | C75: 计算机实验教学中心（国家级） | D75: =VLOOKUP(C75,[1]中心编号!A:B,2,0) -> 055000 | E75: 1856
B76: 11 | C76: 认知计算与应用实验室 | D76: =VLOOKUP(C76,[1]中心编号!A:B,2,0) -> 059917 | E76: 136
A77: 继续教育学院 | B77: 1 | C77: 计算机实训中心 | D77: =VLOOKUP(C77,[1]中心编号!A:B,2,0) -> 301100 | E77: 41
A78: 理学院 | B78: 1 | C78: 数学实验中心 | D78: =VLOOKUP(C78,[1]中心编号!A:B,2,0) -> 075100 | E78: 196
B79: 1 | C79: 浙江省特种能源动力设备***创新中心 | D79: =VLOOKUP(C79,[1]中心编号!A:B,2,0) -> 075300 | E79: 148
B80: 2 | C80: 物理实验教学中心 | D80: =VLOOKUP(C80,[1]中心编号!A:B,2,0) -> 075000 | E80: 2763
B81: 3 | C81: 薄膜物理及应用 | D81: =VLOOKUP(C81,[1]中心编号!A:B,2,0) -> 075200 | E81: 80
A82: 前沿技术服务中心 | B82: 1 | C82: 数字化共享中心（省级） | D82: =VLOOKUP(C82,[1]中心编号!A:B,2,0) -> 470061 | E82: 2861
B83: 2 | C83: 服务器机房 | D83: XZ22 | E83: 38.5
B84: 3 | C84: 扫描电镜技术联合实验室 | D84: XZ23 | E84: 50
B85: 4 | C85: 大仪共享仓 | D85: XZ24 | E85: 30
B86: 5 | C86: 数字化智能装备创新中心 | D86: XZ25 | E86: 30
B87: 6 | C87: 智慧农业装备创新中心 | D87: XZ26 | E87: 20
A88: 人文艺术与数字媒体学院 | B88: 1 | C88: “一带一路”背景下中国出版“走出去”的数字化模式和路径研究 | D88: XZ27 | E88: 50
B89: 1 | C89: 工业产品设计实验教学中心 | D89: =VLOOKUP(C89,[1]中心编号!A:B,2,0) -> 015100 | E89: 568
B90: 2 | C90: 现代印刷、包装实验中心 | D90: =VLOOKUP(C90,[1]中心编号!A:B,2,0) -> 145000 | E90: 1463
B91: 3 | C91: 跨媒体互动社交教学实验室 | D91: XZ28 | E91: 60
B92: 4 | C92: 非遗美育文化艺术展示交流中心 | D92: XZ29 | E92: 45
A93: 通信工程学院 | B93: 1 | C93: 通信与信息安全实验中心（省级） | D93: =VLOOKUP(C93,[1]中心编号!A:B,2,0) -> 085000 | E93: 2190
A94: 外国语学院 | B94: 1 | C94: 外语实验教学中心 | D94: =VLOOKUP(C94,[1]中心编号!A:B,2,0) -> 105000 | E94: 1664
A95: 网络空间安全学院（浙江保密学院） | B95: 1 | C95: 网络空间安全实验教学中心（省级） | D95: =VLOOKUP(C95,[1]中心编号!A:B,2,0) -> 4700041 | E95: 111
A96: 微电子研究中心 | B96: 1 | C96: 可编程自毁信息安全技术实验室 | D96: XZ30 | E96: 30
A97: 中国科教评价研究院（浙江高等教育研究院） | B97: 1 | C97: 中国科教评价研究实验室 | D97: =VLOOKUP(C97,[1]中心编号!A:B,2,0) -> 031101 | E97: 48
A98: 卓越学院 | B98: 1 | C98: 卓越学院学生创新实践中心 | D98: =VLOOKUP(C98,[1]中心编号!A:B,2,0) -> 170200 | E98: 60
A99: 自动化学院（人工智能学院） | B99: 1 | C99: 人工智能省级实验教学示范中心 | D99: =VLOOKUP(C99,[1]中心编号!A:B,2,0) -> 4700047 | E99: 1011
B100: 1 | C100: 人工智能研究院 | D100: =VLOOKUP(C100,[1]中心编号!A:B,2,0) -> 066500 | E100: 360
...

Sheet Sheet1
A2: 中心编号
A3: 195600
A4: 196402
A5: 380400
A6: 071100
A7: 4700046
A8: 4700045
A9: 195300
A10: 196403
A11: 196401
A12: 196404
A13: 380100
A14: 390001
A15: 38600
A16: 195100
A17: XZ01
A18: XZ02
A19: XZ03
A20: 042000
A21: 041000
A22: 400300
A23: 044004
A24: 045001
A25: 042500
A26: XZ01
... A35: 041100
A36: 4700039
A37: 4700049
A38: 49909
A39: 045600
A40: XZ04
A41: XZ05
A42: XZ06
A43: XZ07
A44: XZ08
A45: 115000
A46: 039902
A47: XZ08
A48: XZ09
A49: 014700
A50: 018200
... A66: 050100
A67: 4700043
A68: 059905
A69: 055400
A70: 059918
A71: 050800
A72: 4700062
A73: 059908
A74: 4700061
A75: 055000
A76: 059917
A77: 301100
A78: 075100
A79: 075300
A80: 075000
A81: 075200
A82: 470061
A83: XZ01
A84: XZ02
A85: XZ03
A86: XZ04
A87: XZ05
A88: XZ17
A89: 015100
A90: 145000
A91: XZ18
A92: XZ19
A93: 085000
A94: 105000
A95: 4700041
A96: XZ20
A97: 031101
A98: 170200
A99: 4700047
A100: 066500
A101: 066000
A102: 069904
A103: XZ21
A104: 069905
A105: 069906
A106: 066400
A107: 069907
A108: 181100
A109: 065000
A110: XZ01
A111: XZ02
